BEGIN:VCALENDAR
VERSION:2.0
PRODID:-//Washington USL&amp;H Assigned Risk Plan - ECPv6.15.20//NONSGML v1.0//EN
CALSCALE:GREGORIAN
METHOD:PUBLISH
X-WR-CALNAME:Washington USL&amp;H Assigned Risk Plan
X-ORIGINAL-URL:https://warp-uslh.org
X-WR-CALDESC:Events for Washington USL&amp;H Assigned Risk Plan
REFRESH-INTERVAL;VALUE=DURATION:PT1H
X-Robots-Tag:noindex
X-PUBLISHED-TTL:PT1H
BEGIN:VTIMEZONE
TZID:UTC
BEGIN:STANDARD
TZOFFSETFROM:+0000
TZOFFSETTO:+0000
TZNAME:UTC
DTSTART:20230101T000000
END:STANDARD
END:VTIMEZONE
BEGIN:VEVENT
DTSTART;TZID=UTC:20260304T103000
DTEND;TZID=UTC:20260304T130000
DTSTAMP:20260421T140248
CREATED:20260317T173508Z
LAST-MODIFIED:20260317T173508Z
UID:2407-1772620200-1772629200@warp-uslh.org
SUMMARY:WARP Quarterly Governing Committee Meeting
DESCRIPTION:
URL:https://warp-uslh.org/event/warp-quarterly-governing-committee-meeting-3/
LOCATION:Office of the Insurance Commissioner\, 5000 Capitol Blvd SE\, Tumwater\, WA\, 98501\, United States
CATEGORIES:Quarterly Meeting
ORGANIZER;CN="WARP":MAILTO:info@warp-uslh.org
END:VEVENT
BEGIN:VEVENT
DTSTART;TZID=UTC:20251203T093000
DTEND;TZID=UTC:20251203T123000
DTSTAMP:20260421T140248
CREATED:20250505T234008Z
LAST-MODIFIED:20250505T234008Z
UID:2241-1764754200-1764765000@warp-uslh.org
SUMMARY:WARP Quarterly Governing Committee Meeting
DESCRIPTION:Our meetings are open to the public. Join us to participate in WARP’s quarterly business meeting.
URL:https://warp-uslh.org/event/warp-quarterly-governing-committee-meeting-2/
LOCATION:Teamster’s Building Tukwila\, 14675 Interurban Ave S\, Tukwila\, WA\, 98168\, United States
CATEGORIES:Quarterly Meeting
ORGANIZER;CN="WARP":MAILTO:info@warp-uslh.org
END:VEVENT
BEGIN:VEVENT
DTSTART;TZID=UTC:20250903T093000
DTEND;TZID=UTC:20250903T123000
DTSTAMP:20260421T140248
CREATED:20250505T233903Z
LAST-MODIFIED:20250505T233903Z
UID:2238-1756891800-1756902600@warp-uslh.org
SUMMARY:WARP Quarterly Governing Committee Meeting
DESCRIPTION:Our meetings are open to the public. Join us to participate in WARP’s quarterly business meeting.
URL:https://warp-uslh.org/event/warp-quarterly-governing-committee-meeting/
LOCATION:Teamster’s Building Tukwila\, 14675 Interurban Ave S\, Tukwila\, WA\, 98168\, United States
CATEGORIES:Quarterly Meeting
ATTACH;FMTTYPE=image/gif:https://warp-uslh.org/wp-content/uploads/2024/03/GC-icon-1.gif
ORGANIZER;CN="WARP":MAILTO:info@warp-uslh.org
END:VEVENT
BEGIN:VEVENT
DTSTART;TZID=UTC:20250604T093000
DTEND;TZID=UTC:20250604T120000
DTSTAMP:20260421T140248
CREATED:20250320T170719Z
LAST-MODIFIED:20250505T233538Z
UID:2008-1749029400-1749038400@warp-uslh.org
SUMMARY:WARP Governing Committee Meeting
DESCRIPTION:Our meetings are open to the public. Join us to participate in WARP’s quarterly business meeting.
URL:https://warp-uslh.org/event/warp-governing-committee-meeting/
LOCATION:Teamster’s Building Tukwila\, 14675 Interurban Ave S\, Tukwila\, WA\, 98168\, United States
CATEGORIES:Quarterly Meeting
ATTACH;FMTTYPE=image/gif:https://warp-uslh.org/wp-content/uploads/2024/03/GC-icon.gif
END:VEVENT
BEGIN:VEVENT
DTSTART;TZID=UTC:20241204T093000
DTEND;TZID=UTC:20241204T120000
DTSTAMP:20260421T140248
CREATED:20240404T001315Z
LAST-MODIFIED:20240404T010218Z
UID:1592-1733304600-1733313600@warp-uslh.org
SUMMARY:Governing Committee Meeting
DESCRIPTION:
URL:https://warp-uslh.org/event/governing-committee-meeting-3/
LOCATION:Teamster’s Building Tukwila\, 14675 Interurban Ave S\, Tukwila\, WA\, 98168\, United States
CATEGORIES:Quarterly Meeting
END:VEVENT
BEGIN:VEVENT
DTSTART;TZID=UTC:20240904T093000
DTEND;TZID=UTC:20240904T120000
DTSTAMP:20260421T140248
CREATED:20240404T001221Z
LAST-MODIFIED:20240404T010154Z
UID:1590-1725442200-1725451200@warp-uslh.org
SUMMARY:Governing Committee Meeting
DESCRIPTION:
URL:https://warp-uslh.org/event/governing-committee-meeting-2/
LOCATION:Teamster’s Building Tukwila\, 14675 Interurban Ave S\, Tukwila\, WA\, 98168\, United States
CATEGORIES:Quarterly Meeting
END:VEVENT
BEGIN:VEVENT
DTSTART;TZID=UTC:20240605T093000
DTEND;TZID=UTC:20240605T120000
DTSTAMP:20260421T140248
CREATED:20240404T001026Z
LAST-MODIFIED:20240404T010241Z
UID:1587-1717579800-1717588800@warp-uslh.org
SUMMARY:Governing Committee Meeting
DESCRIPTION:
URL:https://warp-uslh.org/event/governing-committee-meeting/
LOCATION:Teamster’s Building Tukwila\, 14675 Interurban Ave S\, Tukwila\, WA\, 98168\, United States
CATEGORIES:Quarterly Meeting
END:VEVENT
BEGIN:VEVENT
DTSTART;TZID=UTC:20240306T100000
DTEND;TZID=UTC:20240306T123000
DTSTAMP:20260421T140248
CREATED:20240404T001509Z
LAST-MODIFIED:20240404T010355Z
UID:1594-1709719200-1709728200@warp-uslh.org
SUMMARY:Governing Committee Meeting
DESCRIPTION:
URL:https://warp-uslh.org/event/governing-committee-meeting-4/
LOCATION:Office of the Insurance Commissioner\, 5000 Capitol Blvd SE\, Tumwater\, WA\, 98501\, United States
CATEGORIES:Quarterly Meeting
END:VEVENT
END:VCALENDAR